BEGIN:VCALENDAR
VERSION:2.0
PRODID:-//Newark City of Learning Collaborative - ECPv6.15.14//NONSGML v1.0//EN
CALSCALE:GREGORIAN
METHOD:PUBLISH
X-WR-CALNAME:Newark City of Learning Collaborative
X-ORIGINAL-URL:https://newarknclc.org
X-WR-CALDESC:Events for Newark City of Learning Collaborative
REFRESH-INTERVAL;VALUE=DURATION:PT1H
X-Robots-Tag:noindex
X-PUBLISHED-TTL:PT1H
BEGIN:VTIMEZONE
TZID:UTC
BEGIN:STANDARD
TZOFFSETFROM:+0000
TZOFFSETTO:+0000
TZNAME:UTC
DTSTART:20230101T000000
END:STANDARD
END:VTIMEZONE
BEGIN:VEVENT
DTSTART;TZID=UTC:20241012T120000
DTEND;TZID=UTC:20241012T140000
DTSTAMP:20260421T190210
CREATED:20240930T201613Z
LAST-MODIFIED:20240930T201632Z
UID:3436-1728734400-1728741600@newarknclc.org
SUMMARY:HSASP College Prep Session
DESCRIPTION:College Essay Writing\, Applications\, Scholarships & FAFSA \nFor further information please contact: Mr. Lyndon Brown\, Program Director at 862-368-4261 or hsasp123@gmail.com
URL:https://newarknclc.org/event/hsasp-college-prep-session-2/
LOCATION:Newark Public Library – Branch Brook Branch\, 235 Clifton Avenue\, Newark\, NJ\, 07104\, United States
ORGANIZER;CN="High School Academic Support Program":MAILTO:HSASprogram123@gmail.com
END:VEVENT
END:VCALENDAR