BEGIN:VCALENDAR
VERSION:2.0
PRODID:-//Newark City of Learning Collaborative - ECPv6.15.14//NONSGML v1.0//EN
CALSCALE:GREGORIAN
METHOD:PUBLISH
X-WR-CALNAME:Newark City of Learning Collaborative
X-ORIGINAL-URL:https://newarknclc.org
X-WR-CALDESC:Events for Newark City of Learning Collaborative
REFRESH-INTERVAL;VALUE=DURATION:PT1H
X-Robots-Tag:noindex
X-PUBLISHED-TTL:PT1H
BEGIN:VTIMEZONE
TZID:UTC
BEGIN:STANDARD
TZOFFSETFROM:+0000
TZOFFSETTO:+0000
TZNAME:UTC
DTSTART:20230101T000000
END:STANDARD
END:VTIMEZONE
BEGIN:VEVENT
DTSTART;TZID=UTC:20250224T120000
DTEND;TZID=UTC:20250224T120000
DTSTAMP:20260421T234424
CREATED:20250108T185832Z
LAST-MODIFIED:20250108T185832Z
UID:3665-1740398400-1740398400@newarknclc.org
SUMMARY:NJ HESAA FAFSA Webinar - In Spanish
DESCRIPTION:
URL:https://newarknclc.org/event/nj-hesaa-fafsa-webinar-in-spanish-3/
LOCATION:Virtual
END:VEVENT
BEGIN:VEVENT
DTSTART;TZID=UTC:20250219T180000
DTEND;TZID=UTC:20250219T180000
DTSTAMP:20260421T234424
CREATED:20250108T185206Z
LAST-MODIFIED:20250108T185206Z
UID:3657-1739988000-1739988000@newarknclc.org
SUMMARY:NJ HESAA FAFSA Webinar - In English
DESCRIPTION:
URL:https://newarknclc.org/event/nj-hesaa-fafsa-webinar-in-english-6/
LOCATION:Virtual
END:VEVENT
BEGIN:VEVENT
DTSTART;TZID=UTC:20250212T180000
DTEND;TZID=UTC:20250212T180000
DTSTAMP:20260421T234424
CREATED:20250108T185014Z
LAST-MODIFIED:20250108T185014Z
UID:3655-1739383200-1739383200@newarknclc.org
SUMMARY:NJ HESAA FAFSA Webinar - In English
DESCRIPTION:
URL:https://newarknclc.org/event/nj-hesaa-fafsa-webinar-in-english-5/
LOCATION:Virtual
END:VEVENT
BEGIN:VEVENT
DTSTART;TZID=UTC:20250204T180000
DTEND;TZID=UTC:20250204T180000
DTSTAMP:20260421T234424
CREATED:20250108T185723Z
LAST-MODIFIED:20250108T185723Z
UID:3663-1738692000-1738692000@newarknclc.org
SUMMARY:NJ HESAA FAFSA Webinar - In Spanish
DESCRIPTION:
URL:https://newarknclc.org/event/nj-hesaa-fafsa-webinar-in-spanish-2/
LOCATION:Virtual
END:VEVENT
BEGIN:VEVENT
DTSTART;TZID=UTC:20250129T180000
DTEND;TZID=UTC:20250129T180000
DTSTAMP:20260421T234424
CREATED:20250108T184509Z
LAST-MODIFIED:20250108T184509Z
UID:3651-1738173600-1738173600@newarknclc.org
SUMMARY:NJ HESAA FAFSA Webinar - In English
DESCRIPTION:
URL:https://newarknclc.org/event/nj-hesaa-fafsa-webinar-in-english-3/
LOCATION:Virtual
END:VEVENT
BEGIN:VEVENT
DTSTART;TZID=UTC:20250121T120000
DTEND;TZID=UTC:20250121T120000
DTSTAMP:20260421T234424
CREATED:20250108T184353Z
LAST-MODIFIED:20250108T190107Z
UID:3649-1737460800-1737460800@newarknclc.org
SUMMARY:NJ HESAA FAFSA Webinar - In English
DESCRIPTION:
URL:https://newarknclc.org/event/nj-hesaa-fafsa-webinar/
LOCATION:Virtual
END:VEVENT
BEGIN:VEVENT
DTSTART;TZID=UTC:20250115T180000
DTEND;TZID=UTC:20250115T180000
DTSTAMP:20260421T234424
CREATED:20250108T184231Z
LAST-MODIFIED:20250108T184231Z
UID:3647-1736964000-1736964000@newarknclc.org
SUMMARY:NJ HESAA FAFSA Webinar - In English
DESCRIPTION:
URL:https://newarknclc.org/event/nj-hesaa-fafsa-webinar-in-english-2/
LOCATION:Virtual
END:VEVENT
BEGIN:VEVENT
DTSTART;TZID=UTC:20250115T150000
DTEND;TZID=UTC:20250115T173000
DTSTAMP:20260421T234424
CREATED:20250113T185531Z
LAST-MODIFIED:20250113T185532Z
UID:3672-1736953200-1736962200@newarknclc.org
SUMMARY:Make the Road NJ FAFSA Clinic
DESCRIPTION:Join Make the Road NJ at their FAFSA Clinic on Wednesday\, January 15 from 3:00 pm – 5:30 pm at 42 Broad Street\, Elizabeth\, NJ. \nSpecial Guest\, Margo Chaly\, Executive Director of NJ HESAA \nView the English and Spanish flyers here \n908-368-1196 ext.7 \ncollegeambassadors@maketheroadnj.org
URL:https://newarknclc.org/event/make-the-road-nj-fafsa-clinic/
LOCATION:42 Broad Street\, Elizabeth\, NJ\, 42 Broad Street\, Elizabeth\, NJ\, 07201\, United States
ORGANIZER;CN="Make the Road NJ":MAILTO:collegeambassadors@maketheroadnj.org
END:VEVENT
BEGIN:VEVENT
DTSTART;TZID=UTC:20250113T180000
DTEND;TZID=UTC:20250113T180000
DTSTAMP:20260421T234424
CREATED:20250108T185603Z
LAST-MODIFIED:20250108T185603Z
UID:3661-1736791200-1736791200@newarknclc.org
SUMMARY:NJ HESAA FAFSA Webinar - In Spanish
DESCRIPTION:
URL:https://newarknclc.org/event/nj-hesaa-fafsa-webinar-in-spanish/
LOCATION:Virtual
END:VEVENT
BEGIN:VEVENT
DTSTART;TZID=UTC:20250109T180000
DTEND;TZID=UTC:20250109T180000
DTSTAMP:20260421T234424
CREATED:20250108T183707Z
LAST-MODIFIED:20250108T183707Z
UID:3645-1736445600-1736445600@newarknclc.org
SUMMARY:NJ HESAA FAFSA Webinar - In English
DESCRIPTION:
URL:https://newarknclc.org/event/nj-hesaa-fafsa-webinar-in-english/
LOCATION:Virtual
END:VEVENT
BEGIN:VEVENT
DTSTART;TZID=UTC:20241220T120000
DTEND;TZID=UTC:20241220T133000
DTSTAMP:20260421T234424
CREATED:20241007T023041Z
LAST-MODIFIED:20241007T023041Z
UID:3509-1734696000-1734701400@newarknclc.org
SUMMARY:HESAA FAFSA Webinar
DESCRIPTION:Fill It Out to Find Out! \nCheck out one of HESAA’s free financial aid webinars for students and families! \nParticipants do not need to pre-register. Simply use the following link on\nwhichever day and time you want to join: https://www.zoomgov.com/j/16191472863?pwd=eldaR1hWWUdsUUg1WCtuZ2krOFJIZz09#success
URL:https://newarknclc.org/event/hesaa-fafsa-webinar-12/
LOCATION:HESAA Zoom
END:VEVENT
BEGIN:VEVENT
DTSTART;TZID=UTC:20241219T180000
DTEND;TZID=UTC:20241219T193000
DTSTAMP:20260421T234424
CREATED:20241007T022857Z
LAST-MODIFIED:20241007T022857Z
UID:3507-1734631200-1734636600@newarknclc.org
SUMMARY:HESAA FAFSA Webinar
DESCRIPTION:Fill It Out to Find Out! \nCheck out one of HESAA’s free financial aid webinars for students and families! \nParticipants do not need to pre-register. Simply use the following link on\nwhichever day and time you want to join: https://www.zoomgov.com/j/16191472863?pwd=eldaR1hWWUdsUUg1WCtuZ2krOFJIZz09#success
URL:https://newarknclc.org/event/hesaa-fafsa-webinar-11/
LOCATION:HESAA Zoom
END:VEVENT
BEGIN:VEVENT
DTSTART;TZID=UTC:20241217T180000
DTEND;TZID=UTC:20241217T193000
DTSTAMP:20260421T234424
CREATED:20241007T015909Z
LAST-MODIFIED:20241007T015909Z
UID:3485-1734458400-1734463800@newarknclc.org
SUMMARY:HESAA NJ Dreamer Webinar (Spanish)
DESCRIPTION:Fill It Out to Find Out! \nCheck out one of HESAA’s free financial aid webinars for students and families! \nParticipants do not need to pre-register. Simply use the following link on\nwhichever day and time you want to join: https://www.zoomgov.com/j/16191472863?pwd=eldaR1hWWUdsUUg1WCtuZ2krOFJIZz09#success
URL:https://newarknclc.org/event/hesaa-nj-dreamer-webinar-spanish-4/
LOCATION:HESAA Zoom
END:VEVENT
BEGIN:VEVENT
DTSTART;TZID=UTC:20241217T180000
DTEND;TZID=UTC:20241217T193000
DTSTAMP:20260421T234424
CREATED:20241007T015249Z
LAST-MODIFIED:20241007T015249Z
UID:3473-1734458400-1734463800@newarknclc.org
SUMMARY:HESAA NJ Dreamer Webinar
DESCRIPTION:Fill It Out to Find Out! \nCheck out one of HESAA’s free financial aid webinars for students and families! \nParticipants do not need to pre-register. Simply use the following link on\nwhichever day and time you want to join: https://www.zoomgov.com/j/16191472863?pwd=eldaR1hWWUdsUUg1WCtuZ2krOFJIZz09#success
URL:https://newarknclc.org/event/hesaa-nj-dreamer-webinar-6/
LOCATION:HESAA Zoom
END:VEVENT
BEGIN:VEVENT
DTSTART;TZID=UTC:20241211T180000
DTEND;TZID=UTC:20241211T193000
DTSTAMP:20260421T234424
CREATED:20241007T022833Z
LAST-MODIFIED:20241007T022833Z
UID:3505-1733940000-1733945400@newarknclc.org
SUMMARY:HESAA FAFSA Webinar
DESCRIPTION:Fill It Out to Find Out! \nCheck out one of HESAA’s free financial aid webinars for students and families! \nParticipants do not need to pre-register. Simply use the following link on\nwhichever day and time you want to join: https://www.zoomgov.com/j/16191472863?pwd=eldaR1hWWUdsUUg1WCtuZ2krOFJIZz09#success
URL:https://newarknclc.org/event/hesaa-fafsa-webinar-10/
LOCATION:HESAA Zoom
END:VEVENT
BEGIN:VEVENT
DTSTART;TZID=UTC:20241211T120000
DTEND;TZID=UTC:20241211T133000
DTSTAMP:20260421T234424
CREATED:20241007T023303Z
LAST-MODIFIED:20241007T023303Z
UID:3517-1733918400-1733923800@newarknclc.org
SUMMARY:HESAA FAFSA Webinar (Spanish)
DESCRIPTION:Fill It Out to Find Out! \nCheck out one of HESAA’s free financial aid webinars for students and families! \nParticipants do not need to pre-register. Simply use the following link on\nwhichever day and time you want to join: https://www.zoomgov.com/j/16191472863?pwd=eldaR1hWWUdsUUg1WCtuZ2krOFJIZz09#success
URL:https://newarknclc.org/event/hesaa-fafsa-webinar-spanish-4/
LOCATION:HESAA Zoom
END:VEVENT
BEGIN:VEVENT
DTSTART;TZID=UTC:20241210T120000
DTEND;TZID=UTC:20241210T133000
DTSTAMP:20260421T234424
CREATED:20241007T020714Z
LAST-MODIFIED:20241007T022801Z
UID:3503-1733832000-1733837400@newarknclc.org
SUMMARY:HESAA FAFSA Webinar
DESCRIPTION:Fill It Out to Find Out! \nCheck out one of HESAA’s free financial aid webinars for students and families! \nParticipants do not need to pre-register. Simply use the following link on\nwhichever day and time you want to join: https://www.zoomgov.com/j/16191472863?pwd=eldaR1hWWUdsUUg1WCtuZ2krOFJIZz09#success
URL:https://newarknclc.org/event/hesaa-fafsa-webinar-9/
LOCATION:HESAA Zoom
END:VEVENT
BEGIN:VEVENT
DTSTART;TZID=UTC:20241209T183000
DTEND;TZID=UTC:20241209T200000
DTSTAMP:20260421T234424
CREATED:20241203T225750Z
LAST-MODIFIED:20241203T225750Z
UID:3599-1733769000-1733774400@newarknclc.org
SUMMARY:Virtual Resume & Essay Writing Workshop
DESCRIPTION:Zoom Meeting ID: 892 96055077 \nPasscode: 438738
URL:https://newarknclc.org/event/virtual-resume-essay-writing-workshop/
LOCATION:Virtual
ORGANIZER;CN="High School Academic Support Program":MAILTO:HSASprogram123@gmail.com
END:VEVENT
BEGIN:VEVENT
DTSTART;TZID=UTC:20241205T180000
DTEND;TZID=UTC:20241205T193000
DTSTAMP:20260421T234424
CREATED:20241007T020543Z
LAST-MODIFIED:20241007T020543Z
UID:3501-1733421600-1733427000@newarknclc.org
SUMMARY:HESAA FAFSA Webinar
DESCRIPTION:Fill It Out to Find Out! \nCheck out one of HESAA’s free financial aid webinars for students and families! \nParticipants do not need to pre-register. Simply use the following link on\nwhichever day and time you want to join: https://www.zoomgov.com/j/16191472863?pwd=eldaR1hWWUdsUUg1WCtuZ2krOFJIZz09#success
URL:https://newarknclc.org/event/hesaa-fafsa-webinar-8/
LOCATION:HESAA Zoom
END:VEVENT
BEGIN:VEVENT
DTSTART;TZID=UTC:20241203T180000
DTEND;TZID=UTC:20241203T193000
DTSTAMP:20260421T234424
CREATED:20241007T023234Z
LAST-MODIFIED:20241007T023234Z
UID:3515-1733248800-1733254200@newarknclc.org
SUMMARY:HESAA FAFSA Webinar (Spanish)
DESCRIPTION:Fill It Out to Find Out! \nCheck out one of HESAA’s free financial aid webinars for students and families! \nParticipants do not need to pre-register. Simply use the following link on\nwhichever day and time you want to join: https://www.zoomgov.com/j/16191472863?pwd=eldaR1hWWUdsUUg1WCtuZ2krOFJIZz09#success
URL:https://newarknclc.org/event/hesaa-fafsa-webinar-spanish-3/
LOCATION:HESAA Zoom
END:VEVENT
BEGIN:VEVENT
DTSTART;TZID=UTC:20241126T180000
DTEND;TZID=UTC:20241126T193000
DTSTAMP:20260421T234424
CREATED:20241007T020453Z
LAST-MODIFIED:20241007T020453Z
UID:3499-1732644000-1732649400@newarknclc.org
SUMMARY:HESAA FAFSA Webinar
DESCRIPTION:Fill It Out to Find Out! \nCheck out one of HESAA’s free financial aid webinars for students and families! \nParticipants do not need to pre-register. Simply use the following link on\nwhichever day and time you want to join: https://www.zoomgov.com/j/16191472863?pwd=eldaR1hWWUdsUUg1WCtuZ2krOFJIZz09#success
URL:https://newarknclc.org/event/hesaa-fafsa-webinar-7/
LOCATION:HESAA Zoom
END:VEVENT
BEGIN:VEVENT
DTSTART;TZID=UTC:20241126T180000
DTEND;TZID=UTC:20241126T193000
DTSTAMP:20260421T234424
CREATED:20241007T015838Z
LAST-MODIFIED:20241007T015838Z
UID:3483-1732644000-1732649400@newarknclc.org
SUMMARY:HESAA NJ Dreamer Webinar (Spanish)
DESCRIPTION:Fill It Out to Find Out! \nCheck out one of HESAA’s free financial aid webinars for students and families! \nParticipants do not need to pre-register. Simply use the following link on\nwhichever day and time you want to join: https://www.zoomgov.com/j/16191472863?pwd=eldaR1hWWUdsUUg1WCtuZ2krOFJIZz09#success
URL:https://newarknclc.org/event/hesaa-nj-dreamer-webinar-spanish-3/
LOCATION:HESAA Zoom
END:VEVENT
BEGIN:VEVENT
DTSTART;TZID=UTC:20241120T180000
DTEND;TZID=UTC:20241120T193000
DTSTAMP:20260421T234424
CREATED:20241007T020402Z
LAST-MODIFIED:20241007T020402Z
UID:3497-1732125600-1732131000@newarknclc.org
SUMMARY:HESAA FAFSA Webinar
DESCRIPTION:Fill It Out to Find Out! \nCheck out one of HESAA’s free financial aid webinars for students and families! \nParticipants do not need to pre-register. Simply use the following link on\nwhichever day and time you want to join: https://www.zoomgov.com/j/16191472863?pwd=eldaR1hWWUdsUUg1WCtuZ2krOFJIZz09#success
URL:https://newarknclc.org/event/hesaa-fafsa-webinar-6/
LOCATION:HESAA Zoom
END:VEVENT
BEGIN:VEVENT
DTSTART;TZID=UTC:20241118T180000
DTEND;TZID=UTC:20241118T193000
DTSTAMP:20260421T234424
CREATED:20241007T023206Z
LAST-MODIFIED:20241007T023206Z
UID:3513-1731952800-1731958200@newarknclc.org
SUMMARY:HESAA FAFSA Webinar (Spanish)
DESCRIPTION:Fill It Out to Find Out! \nCheck out one of HESAA’s free financial aid webinars for students and families! \nParticipants do not need to pre-register. Simply use the following link on\nwhichever day and time you want to join: https://www.zoomgov.com/j/16191472863?pwd=eldaR1hWWUdsUUg1WCtuZ2krOFJIZz09#success
URL:https://newarknclc.org/event/hesaa-fafsa-webinar-spanish-2/
LOCATION:HESAA Zoom
END:VEVENT
BEGIN:VEVENT
DTSTART;TZID=UTC:20241114T180000
DTEND;TZID=UTC:20241114T193000
DTSTAMP:20260421T234424
CREATED:20241007T020252Z
LAST-MODIFIED:20241007T020252Z
UID:3495-1731607200-1731612600@newarknclc.org
SUMMARY:HESAA FAFSA Webinar
DESCRIPTION:Fill It Out to Find Out! \nCheck out one of HESAA’s free financial aid webinars for students and families! \nParticipants do not need to pre-register. Simply use the following link on\nwhichever day and time you want to join: https://www.zoomgov.com/j/16191472863?pwd=eldaR1hWWUdsUUg1WCtuZ2krOFJIZz09#success
URL:https://newarknclc.org/event/hesaa-fafsa-webinar-5/
LOCATION:HESAA Zoom
END:VEVENT
BEGIN:VEVENT
DTSTART;TZID=UTC:20241113T180000
DTEND;TZID=UTC:20241113T193000
DTSTAMP:20260421T234424
CREATED:20241007T015752Z
LAST-MODIFIED:20241007T015752Z
UID:3481-1731520800-1731526200@newarknclc.org
SUMMARY:HESAA NJ Dreamer Webinar (Spanish)
DESCRIPTION:Fill It Out to Find Out! \nCheck out one of HESAA’s free financial aid webinars for students and families! \nParticipants do not need to pre-register. Simply use the following link on\nwhichever day and time you want to join: https://www.zoomgov.com/j/16191472863?pwd=eldaR1hWWUdsUUg1WCtuZ2krOFJIZz09#success
URL:https://newarknclc.org/event/hesaa-nj-dreamer-webinar-spanish-2/
LOCATION:HESAA Zoom
END:VEVENT
BEGIN:VEVENT
DTSTART;TZID=UTC:20241112T120000
DTEND;TZID=UTC:20241112T133000
DTSTAMP:20260421T234424
CREATED:20241007T015112Z
LAST-MODIFIED:20241007T015112Z
UID:3471-1731412800-1731418200@newarknclc.org
SUMMARY:HESAA NJ Dreamer Webinar
DESCRIPTION:Fill It Out to Find Out! \nCheck out one of HESAA’s free financial aid webinars for students and families! \nParticipants do not need to pre-register. Simply use the following link on\nwhichever day and time you want to join: https://www.zoomgov.com/j/16191472863?pwd=eldaR1hWWUdsUUg1WCtuZ2krOFJIZz09#success
URL:https://newarknclc.org/event/hesaa-nj-dreamer-webinar-5/
LOCATION:HESAA Zoom
END:VEVENT
BEGIN:VEVENT
DTSTART;TZID=UTC:20241104T180000
DTEND;TZID=UTC:20241104T193000
DTSTAMP:20260421T234424
CREATED:20241007T023139Z
LAST-MODIFIED:20241007T023139Z
UID:3511-1730743200-1730748600@newarknclc.org
SUMMARY:HESAA FAFSA Webinar (Spanish)
DESCRIPTION:Fill It Out to Find Out! \nCheck out one of HESAA’s free financial aid webinars for students and families! \nParticipants do not need to pre-register. Simply use the following link on\nwhichever day and time you want to join: https://www.zoomgov.com/j/16191472863?pwd=eldaR1hWWUdsUUg1WCtuZ2krOFJIZz09#success
URL:https://newarknclc.org/event/hesaa-fafsa-webinar-spanish/
LOCATION:HESAA Zoom
END:VEVENT
BEGIN:VEVENT
DTSTART;TZID=UTC:20241104T120000
DTEND;TZID=UTC:20241104T133000
DTSTAMP:20260421T234424
CREATED:20241007T020219Z
LAST-MODIFIED:20241007T020219Z
UID:3493-1730721600-1730727000@newarknclc.org
SUMMARY:HESAA FAFSA Webinar
DESCRIPTION:Fill It Out to Find Out! \nCheck out one of HESAA’s free financial aid webinars for students and families! \nParticipants do not need to pre-register. Simply use the following link on\nwhichever day and time you want to join: https://www.zoomgov.com/j/16191472863?pwd=eldaR1hWWUdsUUg1WCtuZ2krOFJIZz09#success
URL:https://newarknclc.org/event/hesaa-fafsa-webinar-4/
LOCATION:HESAA Zoom
END:VEVENT
BEGIN:VEVENT
DTSTART;TZID=UTC:20241029T180000
DTEND;TZID=UTC:20241029T190000
DTSTAMP:20260421T234424
CREATED:20241007T015553Z
LAST-MODIFIED:20241007T015553Z
UID:3477-1730224800-1730228400@newarknclc.org
SUMMARY:HESAA FSA ID Webinar (Spanish)
DESCRIPTION:Fill It Out to Find Out! \nCheck out one of HESAA’s free financial aid webinars for students and families! \nParticipants do not need to pre-register. Simply use the following link on\nwhichever day and time you want to join: https://www.zoomgov.com/j/16191472863?pwd=eldaR1hWWUdsUUg1WCtuZ2krOFJIZz09#success
URL:https://newarknclc.org/event/hesaa-fsa-id-webinar-spanish-2/
LOCATION:HESAA Zoom
END:VEVENT
END:VCALENDAR